BEGIN:VCALENDAR
VERSION:2.0
PRODID:-//Compassion Sync - ECPv6.15.20//NONSGML v1.0//EN
CALSCALE:GREGORIAN
METHOD:PUBLISH
X-ORIGINAL-URL:https://www.compassionsync.org
X-WR-CALDESC:Events for Compassion Sync
REFRESH-INTERVAL;VALUE=DURATION:PT1H
X-Robots-Tag:noindex
X-PUBLISHED-TTL:PT1H
BEGIN:VTIMEZONE
TZID:America/Phoenix
BEGIN:STANDARD
TZOFFSETFROM:-0700
TZOFFSETTO:-0700
TZNAME:MST
DTSTART:20250101T000000
END:STANDARD
END:VTIMEZONE
BEGIN:VEVENT
DTSTART;TZID=America/Phoenix:20260411T100000
DTEND;TZID=America/Phoenix:20260412T190000
DTSTAMP:20260421T110836
CREATED:20240925T232136Z
LAST-MODIFIED:20260316T154433Z
UID:10697-1775901600-1776020400@www.compassionsync.org
SUMMARY:Workshop #3 - Awakening
DESCRIPTION:Do you desire\, peace\, love and joy in your life? \nIn this workshop you will AWAKEN to understanding why you do the things you do. \nLearn how your three minds; your head\, heart\, and gut contribute to your life experience. \nIn this workshop you will be given tools that teach you how to navigate through your three minds to create the life of peace love and joy that you desire.
URL:https://www.compassionsync.org/event/workshop-3-awakening-14/
LOCATION:Compassion Sync\, 2655 W Guadalupe Rd Ste #21\, Mesa\, AZ\, 85202\, United States
CATEGORIES:Workshop 3,Workshops
ATTACH;FMTTYPE=image/jpeg:https://www.compassionsync.org/wp-content/uploads/2019/12/About-alt.jpg
ORGANIZER;CN="Compassion Sync":MAILTO:support@compassionsync.org
END:VEVENT
BEGIN:VEVENT
DTSTART;TZID=America/Phoenix:20260321T100000
DTEND;TZID=America/Phoenix:20260322T190000
DTSTAMP:20260421T110836
CREATED:20260203T175453Z
LAST-MODIFIED:20260208T213205Z
UID:12337-1774087200-1774206000@www.compassionsync.org
SUMMARY:Workshop #1 - Discovery
DESCRIPTION:Workshop one is a journey in self DISCOVERY. \nWho is it that you think you are? And who is it that you want to be? \nJoin us in this interactive\, foundational workshop designed to lead you to a path of self reflection and realization. \nThis workshop is two and a half days of hands on experience that leverages large and small group activities\, as well as instructional segments. \nSaturday & Sunday 10:00 AM-7:00 PM (Doors open at 9:30 AM)\nLunch Break at 2:00 PM
URL:https://www.compassionsync.org/event/workshop-1-discovery-2/
LOCATION:Compassion Sync\, 2655 W Guadalupe Rd Ste #21\, Mesa\, AZ\, 85202\, United States
CATEGORIES:Workshop 1,Workshops
ATTACH;FMTTYPE=image/jpeg:https://www.compassionsync.org/wp-content/uploads/2020/02/WS1-1800x1013-1.jpg
ORGANIZER;CN="Compassion Sync":MAILTO:support@compassionsync.org
END:VEVENT
BEGIN:VEVENT
DTSTART;TZID=America/Phoenix:20260606T100000
DTEND;TZID=America/Phoenix:20260607T170000
DTSTAMP:20260421T110836
CREATED:20260412T190314Z
LAST-MODIFIED:20260417T133644Z
UID:12551-1780740000-1780851600@www.compassionsync.org
SUMMARY:Discovery Workshop #1
DESCRIPTION:Workshop one is a journey in self DISCOVERY. \nWho is it that you think you are? And who is it that you want to be? \nJoin us in this interactive\, foundational workshop designed to lead you to a path of self reflection and realization. \nThis workshop is two and a half days of hands on experience that leverages large and small group activities\, as well as instructional segments. \nSaturday 10a – 7p & Sunday 10a – 5p \n(Doors open at 9:30a) \nLunch Break at 2:00 PM
URL:https://www.compassionsync.org/event/discovery-workshop-1-2/
LOCATION:Compassion Sync\, 2655 W Guadalupe Rd Ste #21\, Mesa\, AZ\, 85202\, United States
CATEGORIES:All Events,Workshop 1,Workshops
ATTACH;FMTTYPE=image/jpeg:https://www.compassionsync.org/wp-content/uploads/2020/02/WS1-1800x1013-1.jpg
ORGANIZER;CN="Compassion Sync":MAILTO:support@compassionsync.org
END:VEVENT
END:VCALENDAR